BEGIN:VCALENDAR
VERSION:2.0
PRODID:-//Colorful Bridgeport - ECPv6.10.2//NONSGML v1.0//EN
CALSCALE:GREGORIAN
METHOD:PUBLISH
X-ORIGINAL-URL:https://www.colorfulbridgeport.com
X-WR-CALDESC:Events for Colorful Bridgeport
REFRESH-INTERVAL;VALUE=DURATION:PT1H
X-Robots-Tag:noindex
X-PUBLISHED-TTL:PT1H
BEGIN:VTIMEZONE
TZID:America/New_York
BEGIN:DAYLIGHT
TZOFFSETFROM:-0500
TZOFFSETTO:-0400
TZNAME:EDT
DTSTART:20260308T070000
END:DAYLIGHT
BEGIN:STANDARD
TZOFFSETFROM:-0400
TZOFFSETTO:-0500
TZNAME:EST
DTSTART:20261101T060000
END:STANDARD
END:VTIMEZONE
BEGIN:VEVENT
DTSTART;TZID=America/New_York:20260513T160000
DTEND;TZID=America/New_York:20260513T180000
DTSTAMP:20260421T125350
CREATED:20260309T211623Z
LAST-MODIFIED:20260417T173145Z
UID:10002485-1778688000-1778695200@www.colorfulbridgeport.com
SUMMARY:Bridgeport DSSD Annual Meeting
DESCRIPTION:Join us for the Bridgeport DSSD’s 2026 Annual Meeting of the Membership \nWe look forward to welcoming businesses\, property owners\, residents\, and other stakeholders on Wednesday\, May 13\, 2026 at the Ursa Gallery\, located at 247 Fairfield Avenue\, Bridgeport\, CT 06604. The meeting will begin at 4:00 p.m. \nThis year’s Annual Meeting will open with presentations on Downtown safety from Bridgeport Police Chief Roderick Porter and an update on The Post Hotel redevelopment project. We will review our Fiscal Year 2027 budget\, present financial statements\, elect Board Commissioners and Officers\, and highlight key accomplishments. You can review this year’s slate of property owner and leaseholder candidates for the Board of Commissioners here. \nThe Annual Meeting is open to the public\, and all community members are welcomed and encouraged to attend. Complimentary refreshments will be provided. We hope you can join us! The event is free to attend\, but you must RSVP in advance. \nContact us at 203.908.3622 or hello@colorfulbridgeport.com if you have any questions. \n\n\n                \n                        \n                            Annual Meeting Registration\n                             \n                        \n                        Name(Required)\n                            \n                            \n                                                    \n                                                    First\n                                                \n                            \n                            \n                                                    \n                                                    Last\n                                                \n                            \n                        Email(Required)\n                            \n                        PhoneHow did you hear about the Annual Meeting?(Required)What's Happening NewsletterColorful Bridgeport social mediaColorful Bridgeport websiteWord of mouthOtherIf you selected Other\, please let us know how you heard about the Annual Meeting.Are you a...? (Check all that apply.)(Required)\n								\n								Downtown Bridgeport property owner\n							\n								\n								Downtown Bridgeport business owner\n							\n								\n								Downtown Bridgeport resident\n							\n								\n								Downtown Bridgeport office worker\n							\n								\n								Other\n							Can we add you to the What's Happening newsletter?(Required)\n								\n								Yes\n							\n								\n								No\n							\n								\n								I'm already subscribed\n							\n          \n            \n            \n            \n            \n            \n            \n            \n            \n            \n            \n            \n            \n            \n        \n                        Δ
URL:https://www.colorfulbridgeport.com/event/bridgeport-dssd-annual-meeting/
LOCATION:Ursa Gallery\, 247 Fairfield Ave\, Bridgeport\, CT\, 06604
ATTACH;FMTTYPE=image/jpeg:https://www.colorfulbridgeport.com/wp-content/uploads/2025/02/McLevy-Green-Area-DSSD-Office.jpg
END:VEVENT
END:VCALENDAR