BEGIN:VCALENDAR
VERSION:2.0
PRODID:-//Colorful Bridgeport - ECPv6.10.2//NONSGML v1.0//EN
CALSCALE:GREGORIAN
METHOD:PUBLISH
X-WR-CALNAME:Colorful Bridgeport
X-ORIGINAL-URL:https://www.colorfulbridgeport.com
X-WR-CALDESC:Events for Colorful Bridgeport
REFRESH-INTERVAL;VALUE=DURATION:PT1H
X-Robots-Tag:noindex
X-PUBLISHED-TTL:PT1H
BEGIN:VTIMEZONE
TZID:America/New_York
BEGIN:DAYLIGHT
TZOFFSETFROM:-0500
TZOFFSETTO:-0400
TZNAME:EDT
DTSTART:20250309T070000
END:DAYLIGHT
BEGIN:STANDARD
TZOFFSETFROM:-0400
TZOFFSETTO:-0500
TZNAME:EST
DTSTART:20251102T060000
END:STANDARD
END:VTIMEZONE
BEGIN:VEVENT
DTSTART;TZID=America/New_York:20251221T180000
DTEND;TZID=America/New_York:20251221T220000
DTSTAMP:20260423T094357
CREATED:20251216T041913Z
LAST-MODIFIED:20251216T041913Z
UID:10002220-1766340000-1766354400@www.colorfulbridgeport.com
SUMMARY:Ugly Sweater Sip-N-Paint Christmas Party
DESCRIPTION:Get ready to celebrate Christmas in style with our ugly sweater sip and paint party – it’s going to be a festive\, fun-filled night.\nChristmas\, ugly sweater sip and paint party \nCome to the southern class daiquiri Factory and join us for a festive and fun evening at our Christmas ugly sweater sip and paint party! Grab your ugliest Christmas sweater \, cutest reindeer outfit\, Santa or Mrs. Claus outfit and get ready to unleash your inner artist. This in-person event will take place at 997 Main St. Sip on some delicious drinks\, mingle with friends\, and create your own masterpiece to take home. No painting experience necessary. Your tickets will include one drink and painting and art supplies. Don’t miss out on this merry and memorable event!
URL:https://www.colorfulbridgeport.com/event/ugly-sweater-sip-n-paint-christmas-party/
LOCATION:Souther Classic Daquiri Factory\, 997 Main Street\, Bridgeport\, CT\, 06604
END:VEVENT
END:VCALENDAR