BEGIN:VCALENDAR
VERSION:2.0
PRODID:-//Colorful Bridgeport - ECPv6.10.2//NONSGML v1.0//EN
CALSCALE:GREGORIAN
METHOD:PUBLISH
X-ORIGINAL-URL:https://www.colorfulbridgeport.com
X-WR-CALDESC:Events for Colorful Bridgeport
REFRESH-INTERVAL;VALUE=DURATION:PT1H
X-Robots-Tag:noindex
X-PUBLISHED-TTL:PT1H
BEGIN:VTIMEZONE
TZID:America/New_York
BEGIN:DAYLIGHT
TZOFFSETFROM:-0500
TZOFFSETTO:-0400
TZNAME:EDT
DTSTART:20260308T070000
END:DAYLIGHT
BEGIN:STANDARD
TZOFFSETFROM:-0400
TZOFFSETTO:-0500
TZNAME:EST
DTSTART:20261101T060000
END:STANDARD
END:VTIMEZONE
BEGIN:VEVENT
DTSTART;TZID=America/New_York:20261220T140000
DTEND;TZID=America/New_York:20261220T153000
DTSTAMP:20260421T115721
CREATED:20251209T171520Z
LAST-MODIFIED:20251209T171520Z
UID:10001832-1797775200-1797780600@www.colorfulbridgeport.com
SUMMARY:A Year of Toni Morrison: God Help the Child
DESCRIPTION:Join us for an insightful journey through Toni Morrison’s “God Help the Child” – a year-long exploration of her powerful literary canon. \nPoet Sonia Sanchez said of her friend Toni Morrison\, “In order to survive\, you should re-read Toni every ten years because every ten or 15 years\, we have to re-imagine ourselves on this American landscape. You won’t survive if you don’t do that.” We believe now is the time. Join us on a year-long journey through Toni Morrison’s remarkable literary legacy.
URL:https://www.colorfulbridgeport.com/event/a-year-of-toni-morrison-god-help-the-child/
LOCATION:Kindred Thoughts Bookstore\, 1001 Main St\, Ste #8\, Bridgeport\, CT\, 06604\, United States
ATTACH;FMTTYPE=image/jpeg:https://www.colorfulbridgeport.com/wp-content/uploads/2025/12/kindred-morrison.jpeg
END:VEVENT
END:VCALENDAR