BEGIN:VCALENDAR
VERSION:2.0
PRODID:-//Colorful Bridgeport - ECPv6.10.2//NONSGML v1.0//EN
CALSCALE:GREGORIAN
METHOD:PUBLISH
X-WR-CALNAME:Colorful Bridgeport
X-ORIGINAL-URL:https://www.colorfulbridgeport.com
X-WR-CALDESC:Events for Colorful Bridgeport
REFRESH-INTERVAL;VALUE=DURATION:PT1H
X-Robots-Tag:noindex
X-PUBLISHED-TTL:PT1H
BEGIN:VTIMEZONE
TZID:America/New_York
BEGIN:DAYLIGHT
TZOFFSETFROM:-0500
TZOFFSETTO:-0400
TZNAME:EDT
DTSTART:20260308T070000
END:DAYLIGHT
BEGIN:STANDARD
TZOFFSETFROM:-0400
TZOFFSETTO:-0500
TZNAME:EST
DTSTART:20261101T060000
END:STANDARD
END:VTIMEZONE
BEGIN:VEVENT
DTSTART;TZID=America/New_York:20260424T140000
DTEND;TZID=America/New_York:20260424T163000
DTSTAMP:20260422T095301
CREATED:20260409T205403Z
LAST-MODIFIED:20260409T205403Z
UID:10002604-1777039200-1777048200@www.colorfulbridgeport.com
SUMMARY:Movie Screening: District 9
DESCRIPTION:Join us for our weekly movie screening: District 9!
URL:https://www.colorfulbridgeport.com/event/movie-screening-district-9/
LOCATION:Bridgeport Public Main Library – Burroughs-Saden\, 925 Broad Street\, Bridgeport\, Connecticut\, 06604\, United States
ATTACH;FMTTYPE=image/jpeg:https://www.colorfulbridgeport.com/wp-content/uploads/2026/04/04.24-library.jpg
END:VEVENT
BEGIN:VEVENT
DTSTART;TZID=America/New_York:20260425T130000
DTEND;TZID=America/New_York:20260425T140000
DTSTAMP:20260422T095301
CREATED:20260323T212155Z
LAST-MODIFIED:20260323T212155Z
UID:10002545-1777122000-1777125600@www.colorfulbridgeport.com
SUMMARY:Make a Candy DNA Model
DESCRIPTION:Make a Candy DNA Model. It’s National DNA Day! Children will create their own model of DNA using candy pieces. Recommended for children 8-12 years old\, but younger children are welcomed to participate with the assistance of a parent/guardian. For more information\, call the Children’s Dept. at (203) 576-7400\, ext. 408.
URL:https://www.colorfulbridgeport.com/event/make-a-candy-dna-model/
LOCATION:Bridgeport Public Main Library – Burroughs-Saden\, 925 Broad Street\, Bridgeport\, Connecticut\, 06604\, United States
ATTACH;FMTTYPE=image/jpeg:https://www.colorfulbridgeport.com/wp-content/uploads/2026/03/04.25-library.jpg
END:VEVENT
BEGIN:VEVENT
DTSTART;TZID=America/New_York:20260430T173000
DTEND;TZID=America/New_York:20260430T183000
DTSTAMP:20260422T095301
CREATED:20260415T183104Z
LAST-MODIFIED:20260415T183104Z
UID:10002627-1777570200-1777573800@www.colorfulbridgeport.com
SUMMARY:CT Mirror Bridgeport Sit & Speak
DESCRIPTION:liJoin CT Mirror reporter Reginald David for Bridgeport’s Sit & Speak 🗣️ \n📍 Downtown Library\, Bridgeport\n🗓️ Thursday\, April 30th\n⏰ 5:30–6:30 PM\nTopic: Education \nThe superintendent and Board of Education will be there to listen. This space is about your voice. Come share your thoughts and share this so others know where they can be heard. Open to everyone. Refreshments provided.
URL:https://www.colorfulbridgeport.com/event/ct-mirror-bridgeport-sit-speak/
LOCATION:Bridgeport Public Main Library – Burroughs-Saden\, 925 Broad Street\, Bridgeport\, Connecticut\, 06604\, United States
ATTACH;FMTTYPE=image/png:https://www.colorfulbridgeport.com/wp-content/uploads/2026/04/04.30-library.png
END:VEVENT
BEGIN:VEVENT
DTSTART;TZID=America/New_York:20260502T120000
DTEND;TZID=America/New_York:20260502T133000
DTSTAMP:20260422T095301
CREATED:20260406T200602Z
LAST-MODIFIED:20260414T014932Z
UID:10002577-1777723200-1777728600@www.colorfulbridgeport.com
SUMMARY:Curiosity Heals Genealogy Course
DESCRIPTION:Ignite your curiosity about genealogy with Jennifer Toro\, founder of Curiosity Heals TM. Discovering how uncovering lost ancestor stories transforms our understanding of history and ourselves. \nIf you have ever asked yourself these questions\, The Bridgeport History Center invites you to join Curiosity Heals\, a new genealogy workshop series starting May 2026. Sessions guide participants through the healing process of researching\, relating to\, documenting\, and honoring their ancestors. \nOver four\, ninety-minute weekly sessions learn how to construct a family tree along with research techniques utilizing digital archives\, how to conduct an intergenerational oral history and apply their family legacy within a historical context. \nResearch fuels storytelling. To bring family history to life\, participants will document their findings by crafting short family history narrative. In class time is provided for writing\, and optional sharing.
URL:https://www.colorfulbridgeport.com/event/curiosity-heals-genealogy-course/
LOCATION:Bridgeport Public Main Library – Burroughs-Saden\, 925 Broad Street\, Bridgeport\, Connecticut\, 06604\, United States
ATTACH;FMTTYPE=image/jpeg:https://www.colorfulbridgeport.com/wp-content/uploads/2026/04/05.09-library.jpg
END:VEVENT
BEGIN:VEVENT
DTSTART;TZID=America/New_York:20260509T120000
DTEND;TZID=America/New_York:20260509T133000
DTSTAMP:20260422T095301
CREATED:20260414T014103Z
LAST-MODIFIED:20260414T014103Z
UID:10002608-1778328000-1778333400@www.colorfulbridgeport.com
SUMMARY:Curiosity Heals Genealogy Course Two: Build a Family Tree
DESCRIPTION:Learn how to navigate online genealogy archives with Jennifer Toro\, founder of Curiosity Heals TM. Start building a FamilySearch family tree and attach historical records to support your findings. In-class time for troubleshooting and discussion. Personal laptops are encouraged. Or request a loaner from the library to use during the session.
URL:https://www.colorfulbridgeport.com/event/curiosity-heals-genealogy-course-two-build-a-family-tree/
LOCATION:Bridgeport Public Main Library – Burroughs-Saden\, 925 Broad Street\, Bridgeport\, Connecticut\, 06604\, United States
ATTACH;FMTTYPE=image/jpeg:https://www.colorfulbridgeport.com/wp-content/uploads/2026/04/05.09-library.jpg
END:VEVENT
BEGIN:VEVENT
DTSTART;TZID=America/New_York:20260512T140000
DTEND;TZID=America/New_York:20260512T150000
DTSTAMP:20260422T095301
CREATED:20260409T205911Z
LAST-MODIFIED:20260409T205911Z
UID:10002606-1778594400-1778598000@www.colorfulbridgeport.com
SUMMARY:The Wonders: Sideshow Performers and the History of Disability Rights
DESCRIPTION:Independent historian Amanda Surette will present the history of 19th century sideshow performers and the development of the understanding of disabilities and disability rights in the United States\, as well as showcase authentic artifacts of the era.
URL:https://www.colorfulbridgeport.com/event/the-wonders-sideshow-performers-and-the-history-of-disability-rights/
LOCATION:Bridgeport Public Main Library – Burroughs-Saden\, 925 Broad Street\, Bridgeport\, Connecticut\, 06604\, United States
ATTACH;FMTTYPE=image/jpeg:https://www.colorfulbridgeport.com/wp-content/uploads/2026/04/05.12-library.jpg
END:VEVENT
BEGIN:VEVENT
DTSTART;TZID=America/New_York:20260516T120000
DTEND;TZID=America/New_York:20260516T133000
DTSTAMP:20260422T095301
CREATED:20260414T015445Z
LAST-MODIFIED:20260414T015445Z
UID:10002609-1778932800-1778938200@www.colorfulbridgeport.com
SUMMARY:Curiosity Heals Genealogy Course 3: Intergenerational Oral History Workshop
DESCRIPTION:Learn what questions to ask and how to get the most out of oral history interviews with Jennifer Toro\, founder of Curiosity Heals TM. Intergenerational family members are encouraged to attend.
URL:https://www.colorfulbridgeport.com/event/curiosity-heals-genealogy-course-3-intergenerational-oral-history-workshop/
LOCATION:Bridgeport Public Main Library – Burroughs-Saden\, 925 Broad Street\, Bridgeport\, Connecticut\, 06604\, United States
ATTACH;FMTTYPE=image/jpeg:https://www.colorfulbridgeport.com/wp-content/uploads/2026/04/05.09-library.jpg
END:VEVENT
BEGIN:VEVENT
DTSTART;TZID=America/New_York:20260518T130000
DTEND;TZID=America/New_York:20260518T143000
DTSTAMP:20260422T095301
CREATED:20260409T205153Z
LAST-MODIFIED:20260409T205153Z
UID:10002603-1779109200-1779114600@www.colorfulbridgeport.com
SUMMARY:Build a Solar house!
DESCRIPTION:An interactive STEAM program for ages 6-12. Children will learn about solar energy and build their own solar house to take home. This is a solar energy project and presentation hosted by the American Institute of Architects in CT and the Architecture Resource Center Inc.. Registration is required. Call us at 203-576-7400\, ext. 408 to register.
URL:https://www.colorfulbridgeport.com/event/build-a-solar-house/
LOCATION:Bridgeport Public Main Library – Burroughs-Saden\, 925 Broad Street\, Bridgeport\, Connecticut\, 06604\, United States
ATTACH;FMTTYPE=image/jpeg:https://www.colorfulbridgeport.com/wp-content/uploads/2026/04/04.18-library.jpg
END:VEVENT
BEGIN:VEVENT
DTSTART;TZID=America/New_York:20260617T173000
DTEND;TZID=America/New_York:20260617T190000
DTSTAMP:20260422T095301
CREATED:20260409T205712Z
LAST-MODIFIED:20260409T205712Z
UID:10002605-1781717400-1781722800@www.colorfulbridgeport.com
SUMMARY:Children's Magic Show
DESCRIPTION:Magician Alexis Young performs at the BPL’s 1st floor community room.
URL:https://www.colorfulbridgeport.com/event/childrens-magic-show/
LOCATION:Bridgeport Public Main Library – Burroughs-Saden\, 925 Broad Street\, Bridgeport\, Connecticut\, 06604\, United States
ATTACH;FMTTYPE=image/jpeg:https://www.colorfulbridgeport.com/wp-content/uploads/2025/11/BPLibrary_Logo.jpg
END:VEVENT
BEGIN:VEVENT
DTSTART;TZID=America/New_York:20260702T130000
DTEND;TZID=America/New_York:20260702T140000
DTSTAMP:20260422T095301
CREATED:20260323T205755Z
LAST-MODIFIED:20260323T205755Z
UID:10002540-1782997200-1783000800@www.colorfulbridgeport.com
SUMMARY:America 250 Kids: Boston Tea Party
DESCRIPTION:We’re celebrating America’s 250 years of independence by recapping one of its most historical events\, the protest of the Boston Tea Party! Children will make their own tea bags and paint a commemorative plate celebrating America 250. For children\, ages 4-12 years old.
URL:https://www.colorfulbridgeport.com/event/america-250-kids-boston-tea-party/
LOCATION:Bridgeport Public Main Library – Burroughs-Saden\, 925 Broad Street\, Bridgeport\, Connecticut\, 06604\, United States
ATTACH;FMTTYPE=image/jpeg:https://www.colorfulbridgeport.com/wp-content/uploads/2026/03/07.02-library.jpg
END:VEVENT
END:VCALENDAR